BEGIN:VCALENDAR
VERSION:2.0
PRODID:-//Zdzisław Kijas - Strona autorska - ECPv6.15.12.1//NONSGML v1.0//EN
CALSCALE:GREGORIAN
METHOD:PUBLISH
X-WR-CALNAME:Zdzisław Kijas - Strona autorska
X-ORIGINAL-URL:https://zkijas.com
X-WR-CALDESC:Wydarzenia dla Zdzisław Kijas - Strona autorska
REFRESH-INTERVAL;VALUE=DURATION:PT1H
X-Robots-Tag:noindex
X-PUBLISHED-TTL:PT1H
BEGIN:VTIMEZONE
TZID:UTC
BEGIN:STANDARD
TZOFFSETFROM:+0000
TZOFFSETTO:+0000
TZNAME:UTC
DTSTART:20230101T000000
END:STANDARD
END:VTIMEZONE
BEGIN:VEVENT
DTSTART;TZID=UTC:20240507T093000
DTEND;TZID=UTC:20240508T140000
DTSTAMP:20260424T043747
CREATED:20240502T160030Z
LAST-MODIFIED:20240502T160030Z
UID:30974-1715074200-1715176800@zkijas.com
SUMMARY:Konferencja naukowa - Temat: KARDYNAŁ STANISŁAW HOZJUSZ - TEOLOG\, HUMANISTA\, DYPLOMATA I KANDYDAT NA OŁTARZE
DESCRIPTION:Zapraszam do wysłuchania prelekcji podczas Międzynarodowej Konferencji z okazji 25-lecia utworzenia Wydziału Teologii na Uniwersytecie Warmińsko-Mazurskim w Olsztynie.\nTemat: KARDYNAŁ STANISŁAW HOZJUSZ – TEOLOG\, HUMANISTA\, DYPLOMATA I KANDYDAT NA OŁTARZE\nKonferencja odbędzie się na Papieskim Uniwersytecie Gregoriańskim w Rzymie.\nW dniu 7 maja zaplanowane są wykłady w czterech sesjach – od godz. 9.30 do 13.30 i od 15.30 do 19.00.\nW dniu 8 maja zaplanowane są wykłady w dwóch sesjach – od godz. 9.30 do 14.00.\nTransmisja online będzie pod tym adresem: https://www.youtube.com/unigregoriana\nProgram szczegółowy w trzech wersjach językowych (pl\, en\, it) jest tu: https://uwm.edu.pl/wt/konferencja-hozjusz-2024
URL:https://zkijas.com/event/konferencja-naukowa-temat-kardynal-stanislaw-hozjusz-teolog-humanista-dyplomata-i-kandydat-na-oltarze/
LOCATION:Papieski Uniwersytet Gregoriański\, Piazza della Pilotta\, 4\, Roma\, Roma RM\, 00187
ATTACH;FMTTYPE=image/jpeg:https://zkijas.com/wp-content/uploads/2024/05/S.-Hozjusz-1163x1600.jpeg
END:VEVENT
END:VCALENDAR