BEGIN:VCALENDAR
VERSION:2.0
PRODID:-//Zdzisław Kijas - Strona autorska - ECPv6.15.12.1//NONSGML v1.0//EN
CALSCALE:GREGORIAN
METHOD:PUBLISH
X-ORIGINAL-URL:https://zkijas.com
X-WR-CALDESC:Wydarzenia dla Zdzisław Kijas - Strona autorska
REFRESH-INTERVAL;VALUE=DURATION:PT1H
X-Robots-Tag:noindex
X-PUBLISHED-TTL:PT1H
BEGIN:VTIMEZONE
TZID:UTC
BEGIN:STANDARD
TZOFFSETFROM:+0000
TZOFFSETTO:+0000
TZNAME:UTC
DTSTART:20230101T000000
END:STANDARD
END:VTIMEZONE
BEGIN:VEVENT
DTSTART;TZID=UTC:20240420T180000
DTEND;TZID=UTC:20240421T173000
DTSTAMP:20260424T104453
CREATED:20240414T084130Z
LAST-MODIFIED:20240414T084130Z
UID:30903-1713636000-1713720600@zkijas.com
SUMMARY:Spotkania z o. prof. Zdzisławem Kijasem o Rozalii Celakównej
DESCRIPTION:Zapraszam wszystkich w dniach 20 – 21. 04.2024 do Bieńkówki! Tematem spotkań jest szczególnie bliska mi bł. Rozalia Celakówna.
URL:https://zkijas.com/event/spotkania-z-o-prof-zdzislawem-kijasem-o-rozalii-celakownej/
LOCATION:Parafia Przenajświętszej Trójcy w Bieńkówce\, Bieńkówka 258\, Bieńkówka\, małopolska\, 34-212\, Poland
CATEGORIES:Konferencja naukowa,Spotkanie z autorem
ATTACH;FMTTYPE=image/jpeg:https://zkijas.com/wp-content/uploads/2024/04/WhatsApp-Image-2024-04-13-at-20.39.49-1131x1600.jpeg
END:VEVENT
END:VCALENDAR