BEGIN:VCALENDAR
VERSION:2.0
PRODID:-//Zdzisław Kijas - Strona autorska - ECPv6.15.12.1//NONSGML v1.0//EN
CALSCALE:GREGORIAN
METHOD:PUBLISH
X-ORIGINAL-URL:https://zkijas.com
X-WR-CALDESC:Wydarzenia dla Zdzisław Kijas - Strona autorska
REFRESH-INTERVAL;VALUE=DURATION:PT1H
X-Robots-Tag:noindex
X-PUBLISHED-TTL:PT1H
BEGIN:VTIMEZONE
TZID:UTC
BEGIN:STANDARD
TZOFFSETFROM:+0000
TZOFFSETTO:+0000
TZNAME:UTC
DTSTART:20240101T000000
END:STANDARD
END:VTIMEZONE
BEGIN:VEVENT
DTSTART;TZID=UTC:20250308T093000
DTEND;TZID=UTC:20250309T170000
DTSTAMP:20260424T000801
CREATED:20250228T075711Z
LAST-MODIFIED:20250228T075711Z
UID:31560-1741426200-1741539600@zkijas.com
SUMMARY:Stigmata Svatého Františka a znovuzrozený člověka.
DESCRIPTION:
URL:https://zkijas.com/event/stigmata-svateho-frantiska-a-znovuzrozeny-cloveka/
LOCATION:Provincie Řádu minoritů v ČR\, Minoritská 1\, BRNO\, 602 00\, Czech Republic
CATEGORIES:Konferencja naukowa,Rekolekcje,Wykłady
ATTACH;FMTTYPE=image/jpeg:https://zkijas.com/wp-content/uploads/2025/02/WhatsApp-Image-2025-02-23-at-18.45.19-1600x1131.jpeg
ORGANIZER;CN="Provincia dei Santi Cirillo e Metodio in Cechia":MAILTO:provincialat@minorite.cz
END:VEVENT
END:VCALENDAR